BEGIN:VCALENDAR
VERSION:2.0
PRODID:-//Pfd Odenwald - ECPv6.15.20//NONSGML v1.0//EN
CALSCALE:GREGORIAN
METHOD:PUBLISH
X-WR-CALNAME:Pfd Odenwald
X-ORIGINAL-URL:https://www.demokratie-leben-odenwald.de
X-WR-CALDESC:Veranstaltungen für Pfd Odenwald
REFRESH-INTERVAL;VALUE=DURATION:PT1H
X-Robots-Tag:noindex
X-PUBLISHED-TTL:PT1H
BEGIN:VTIMEZONE
TZID:Europe/Berlin
BEGIN:DAYLIGHT
TZOFFSETFROM:+0100
TZOFFSETTO:+0200
TZNAME:CEST
DTSTART:20240331T010000
END:DAYLIGHT
BEGIN:STANDARD
TZOFFSETFROM:+0200
TZOFFSETTO:+0100
TZNAME:CET
DTSTART:20241027T010000
END:STANDARD
BEGIN:DAYLIGHT
TZOFFSETFROM:+0100
TZOFFSETTO:+0200
TZNAME:CEST
DTSTART:20250330T010000
END:DAYLIGHT
BEGIN:STANDARD
TZOFFSETFROM:+0200
TZOFFSETTO:+0100
TZNAME:CET
DTSTART:20251026T010000
END:STANDARD
BEGIN:DAYLIGHT
TZOFFSETFROM:+0100
TZOFFSETTO:+0200
TZNAME:CEST
DTSTART:20260329T010000
END:DAYLIGHT
BEGIN:STANDARD
TZOFFSETFROM:+0200
TZOFFSETTO:+0100
TZNAME:CET
DTSTART:20261025T010000
END:STANDARD
END:VTIMEZONE
BEGIN:VEVENT
DTSTART;TZID=Europe/Berlin:20251211T114000
DTEND;TZID=Europe/Berlin:20251211T171400
DTSTAMP:20260422T022911
CREATED:20251211T104051Z
LAST-MODIFIED:20260414T103743Z
UID:12206-1765453200-1765473240@www.demokratie-leben-odenwald.de
SUMMARY:Lesung für Kinder: Anna Maria Praßler
DESCRIPTION:Datum:11. Dezember 2025Uhrzeit: ab 11:40 Uhr \nOrt: Oberzent-Schule\, Krähberger Weg 50\, 64760 Oberzent/Berfelden \nWeb: jwo-ev.de \nFlyer  \nAnna Maria Praßler\, Jahrgang 1983\, ist Drehbuch- und Kinderbuchautorin. Sie verlässt ihren Schreibtisch gern für Lesungen\, Schreibworkshops und Lehraufträge an Filmhochschulen. Sie war für den Deutschen Filmpreis (Bestes Drehbuch) nominiert und las beim Ingeborg-Bachmann-Wettbewerb in Klagenfurt. Ihre Kinderromane erscheinen u.a. bei Klett Kinderbuch und Oetinger. Mit ihrer Familie lebt sie in Berlin.An die Oberzent-Schule nach Beerfelden kommt sie mit dem Buch „Keine Party ist auch keine Lösung“. Die Lesung ist für junge Menschen (ca. 9-14 Jahre) und ihre Familien. Der Eintritt ist frei. Die Veranstaltung findet in der Aula statt und ist für die Öffentlichkeit.
URL:https://www.demokratie-leben-odenwald.de/event/lesung/
LOCATION:Oberzent-Schule\, Krähberger Weg 50\, Oberzent/Berfelden\, Hessen\, 64760\, Germany
ATTACH;FMTTYPE=image/png:https://www.demokratie-leben-odenwald.de/wp-content/uploads/2025/08/01-Event-Vielfalt-for-the-young-at-heart-e1770569224722.png
END:VEVENT
END:VCALENDAR