BEGIN:VCALENDAR
VERSION:2.0
PRODID:-//Pfd Odenwald - ECPv6.15.20//NONSGML v1.0//EN
CALSCALE:GREGORIAN
METHOD:PUBLISH
X-WR-CALNAME:Pfd Odenwald
X-ORIGINAL-URL:https://www.demokratie-leben-odenwald.de
X-WR-CALDESC:Veranstaltungen für Pfd Odenwald
REFRESH-INTERVAL;VALUE=DURATION:PT1H
X-Robots-Tag:noindex
X-PUBLISHED-TTL:PT1H
BEGIN:VTIMEZONE
TZID:Europe/Berlin
BEGIN:DAYLIGHT
TZOFFSETFROM:+0100
TZOFFSETTO:+0200
TZNAME:CEST
DTSTART:20240331T010000
END:DAYLIGHT
BEGIN:STANDARD
TZOFFSETFROM:+0200
TZOFFSETTO:+0100
TZNAME:CET
DTSTART:20241027T010000
END:STANDARD
BEGIN:DAYLIGHT
TZOFFSETFROM:+0100
TZOFFSETTO:+0200
TZNAME:CEST
DTSTART:20250330T010000
END:DAYLIGHT
BEGIN:STANDARD
TZOFFSETFROM:+0200
TZOFFSETTO:+0100
TZNAME:CET
DTSTART:20251026T010000
END:STANDARD
BEGIN:DAYLIGHT
TZOFFSETFROM:+0100
TZOFFSETTO:+0200
TZNAME:CEST
DTSTART:20260329T010000
END:DAYLIGHT
BEGIN:STANDARD
TZOFFSETFROM:+0200
TZOFFSETTO:+0100
TZNAME:CET
DTSTART:20261025T010000
END:STANDARD
END:VTIMEZONE
BEGIN:VEVENT
DTSTART;TZID=Europe/Berlin:20251206T150000
DTEND;TZID=Europe/Berlin:20251206T170000
DTSTAMP:20260422T010916
CREATED:20251228T175355Z
LAST-MODIFIED:20260420T134931Z
UID:12516-1765033200-1765040400@www.demokratie-leben-odenwald.de
SUMMARY:Lesung für Kinder: Cai Schmitz-Weicht
DESCRIPTION:Datum: 6. Dezember 2025\nUhrzeit: 15:00 Uhr \nOrt: Jugendwerkstätten Odenwald  e.V.\nZweigstelle Oberzent\, Hirschhorner Straße 7\, 64760 Oberzent \n  \nMenschenrechte\, echt jetzt? \nMenschenrechte sind so ein Schlagwort\, das Erwachsene\, Politiker*innen und Lehrkräfte gern hochhalten. Aber was ist da dran? Gibt es die überhaupt noch? Gab es sie je? Und was haben Menschenrechte mit dir zu tun? \nAm 06.12.2025 laden wir Familien zu einem interaktiven Nachmittag zum Thema Menschenrechte ein – gemeinsam mit der Autorin und der Illustratorin des Buches „Die Allgemeine Erklärung der Menschenrechte für junge Menschen“. \nWas: Mitmach-Lesung\, zeichnen\, knobeln\, selber machen\, und nebenbei ein paar Geheimnisse aus der Entstehungsgeschichte des Buches erfahren \nWo: JWO\, Hirschhorner Straße 7\, Oberzent \nFür wen: Junge Menschen zwischen ca. 9 und 14 Jahren und ihre Eltern\, Großeltern oder andere ältere Bezugspersonen. \nKosten: Keine.
URL:https://www.demokratie-leben-odenwald.de/event/lesung-fuer-kinder-cai-schmitz-weicht/
LOCATION:Jugendwerkstätte Odenwald\, Hirschhorner Straße 7\, Oberzent\, Hessen\, 64760\, Germany
ATTACH;FMTTYPE=image/png:https://www.demokratie-leben-odenwald.de/wp-content/uploads/2025/08/01-Event-Vielfalt-for-the-young-at-heart-e1770569224722.png
END:VEVENT
BEGIN:VEVENT
DTSTART;TZID=Europe/Berlin:20251208T180000
DTEND;TZID=Europe/Berlin:20251208T200000
DTSTAMP:20260422T010916
CREATED:20251229T092538Z
LAST-MODIFIED:20260323T110547Z
UID:12527-1765216800-1765224000@www.demokratie-leben-odenwald.de
SUMMARY:„Autoritäre Versuchungen\, rechter Populismus und Fake News – Gefahren und Herausforderungen für die Demokratie“
DESCRIPTION:Datum: Montag\, 08.12.2025\nUhrzeit: 18:00 Uhr\nOrt: Hoaschter Treff\, Breuberg \nOrganisator: Jugendwerkstätten Odenwald e.V. in Kooperation mit dem Ausländerbeirat Breuberg \nZu Gast sind Prof. Dr. Benno Hafeneger (Universität Marburg) und Enis Gülegen (Vorsitzender des Landesausländerbeirats Hessen\, AGAH). Beide gehören zu den erfahrensten Stimmen in der Demokratiebildung. \nIm Mittelpunkt des Abends steht die Frage\, wie autoritäre und populistische Strömungen entstehen\, wie Fake News wirken und was wir als Gesellschaft tun können\, um demokratische Werte zu schützen. \nIm Anschluss an die Inputs gibt es Raum für Fragen\, Austausch und Diskussion.
URL:https://www.demokratie-leben-odenwald.de/event/autoritaere-versuchungen-rechter-populismus-und-fake-news-gefahren-und-herausforderungen-fuer-die-demokratie/
LOCATION:Breuberg\, Hessen\, Germany
ATTACH;FMTTYPE=image/jpeg:https://www.demokratie-leben-odenwald.de/wp-content/uploads/2025/12/Event-05_01.jpeg
END:VEVENT
BEGIN:VEVENT
DTSTART;TZID=Europe/Berlin:20251211T114000
DTEND;TZID=Europe/Berlin:20251211T171400
DTSTAMP:20260422T010916
CREATED:20251211T104051Z
LAST-MODIFIED:20260414T103743Z
UID:12206-1765453200-1765473240@www.demokratie-leben-odenwald.de
SUMMARY:Lesung für Kinder: Anna Maria Praßler
DESCRIPTION:Datum:11. Dezember 2025Uhrzeit: ab 11:40 Uhr \nOrt: Oberzent-Schule\, Krähberger Weg 50\, 64760 Oberzent/Berfelden \nWeb: jwo-ev.de \nFlyer  \nAnna Maria Praßler\, Jahrgang 1983\, ist Drehbuch- und Kinderbuchautorin. Sie verlässt ihren Schreibtisch gern für Lesungen\, Schreibworkshops und Lehraufträge an Filmhochschulen. Sie war für den Deutschen Filmpreis (Bestes Drehbuch) nominiert und las beim Ingeborg-Bachmann-Wettbewerb in Klagenfurt. Ihre Kinderromane erscheinen u.a. bei Klett Kinderbuch und Oetinger. Mit ihrer Familie lebt sie in Berlin.An die Oberzent-Schule nach Beerfelden kommt sie mit dem Buch „Keine Party ist auch keine Lösung“. Die Lesung ist für junge Menschen (ca. 9-14 Jahre) und ihre Familien. Der Eintritt ist frei. Die Veranstaltung findet in der Aula statt und ist für die Öffentlichkeit.
URL:https://www.demokratie-leben-odenwald.de/event/lesung/
LOCATION:Oberzent-Schule\, Krähberger Weg 50\, Oberzent/Berfelden\, Hessen\, 64760\, Germany
ATTACH;FMTTYPE=image/png:https://www.demokratie-leben-odenwald.de/wp-content/uploads/2025/08/01-Event-Vielfalt-for-the-young-at-heart-e1770569224722.png
END:VEVENT
END:VCALENDAR